BEGIN:VCALENDAR
VERSION:2.0
PRODID:-//The Victorian Flute Guild - ECPv6.15.20//NONSGML v1.0//EN
CALSCALE:GREGORIAN
METHOD:PUBLISH
X-ORIGINAL-URL:https://www.victorianfluteguild.org
X-WR-CALDESC:Events for The Victorian Flute Guild
REFRESH-INTERVAL;VALUE=DURATION:PT1H
X-Robots-Tag:noindex
X-PUBLISHED-TTL:PT1H
BEGIN:VTIMEZONE
TZID:Australia/Melbourne
BEGIN:STANDARD
TZOFFSETFROM:+1100
TZOFFSETTO:+1000
TZNAME:AEST
DTSTART:20210403T160000
END:STANDARD
BEGIN:DAYLIGHT
TZOFFSETFROM:+1000
TZOFFSETTO:+1100
TZNAME:AEDT
DTSTART:20211002T160000
END:DAYLIGHT
BEGIN:STANDARD
TZOFFSETFROM:+1100
TZOFFSETTO:+1000
TZNAME:AEST
DTSTART:20220402T160000
END:STANDARD
BEGIN:DAYLIGHT
TZOFFSETFROM:+1000
TZOFFSETTO:+1100
TZNAME:AEDT
DTSTART:20221001T160000
END:DAYLIGHT
BEGIN:STANDARD
TZOFFSETFROM:+1100
TZOFFSETTO:+1000
TZNAME:AEST
DTSTART:20230401T160000
END:STANDARD
BEGIN:DAYLIGHT
TZOFFSETFROM:+1000
TZOFFSETTO:+1100
TZNAME:AEDT
DTSTART:20230930T160000
END:DAYLIGHT
END:VTIMEZONE
BEGIN:VEVENT
DTSTART;TZID=Australia/Melbourne:20220902T093000
DTEND;TZID=Australia/Melbourne:20220902T150000
DTSTAMP:20260426T143640
CREATED:20220815T070241Z
LAST-MODIFIED:20250514T051756Z
UID:1606-1662111000-1662130800@www.victorianfluteguild.org
SUMMARY:Professional Development Day 2022
DESCRIPTION:Join the Victorian Flute Guild as it presents a Professional Development Day with Peter Bartels at the helm. \n\n\n\nFrom 9:30am until 3:00pm on Friday September 2nd Peter will lead participants through a range of activities incorporating movement exploration and various tools that can be carried through into the participants own artistic practice. \n\n\n\nRegister by downloading the form below and emailing the completed document to info@victorianfluteguild.org \n \nVFG_PD_Day_2022 VFG_PD_Day_2022 
URL:https://www.victorianfluteguild.org/event/pd-2022/
LOCATION:Presbyterian Ladies College\, Burwood Highway\, Burwood\, Melbourne\, VIC\, Australia
CATEGORIES:VFG Workshops
ORGANIZER;CN="Peter Bartels":MAILTO:pbartels@iinet.net.au
END:VEVENT
BEGIN:VEVENT
DTSTART;TZID=Australia/Melbourne:20220902T190000
DTEND;TZID=Australia/Melbourne:20220902T220000
DTSTAMP:20260426T143640
CREATED:20220307T105149Z
LAST-MODIFIED:20250514T081234Z
UID:1502-1662145200-1662156000@www.victorianfluteguild.org
SUMMARY:The Annual Leslie Barklamb Scholarship - Finals Concert
DESCRIPTION:The Victorian Flute Guild warmly invites you to the Leslie Barklamb Scholarship Finals evening on the 2nd of September. The finals will feature performances by some of Victoria’s finest young flute players as they perform stunning repertoire from across the years in this showcase of exceptional skill and dedication to their craft. \nThe finals will be held at Armadale Uniting Church at 7pm. Tickets are available at the door\, and for any enquires please email info@victorianfluteguild.org
URL:https://www.victorianfluteguild.org/event/2022-lbs-finals-concert/
LOCATION:Victoria
CATEGORIES:Leslie Barklamb
ATTACH;FMTTYPE=image/png:https://www.victorianfluteguild.org/wp-content/uploads/2022/08/2022-August-Magazine-1.png
END:VEVENT
END:VCALENDAR