BEGIN:VCALENDAR
VERSION:2.0
PRODID:-//The Victorian Flute Guild - ECPv6.15.20//NONSGML v1.0//EN
CALSCALE:GREGORIAN
METHOD:PUBLISH
X-WR-CALNAME:The Victorian Flute Guild
X-ORIGINAL-URL:https://www.victorianfluteguild.org
X-WR-CALDESC:Events for The Victorian Flute Guild
REFRESH-INTERVAL;VALUE=DURATION:PT1H
X-Robots-Tag:noindex
X-PUBLISHED-TTL:PT1H
BEGIN:VTIMEZONE
TZID:Australia/Melbourne
BEGIN:STANDARD
TZOFFSETFROM:+1100
TZOFFSETTO:+1000
TZNAME:AEST
DTSTART:20150404T160000
END:STANDARD
BEGIN:DAYLIGHT
TZOFFSETFROM:+1000
TZOFFSETTO:+1100
TZNAME:AEDT
DTSTART:20151003T160000
END:DAYLIGHT
BEGIN:STANDARD
TZOFFSETFROM:+1100
TZOFFSETTO:+1000
TZNAME:AEST
DTSTART:20160402T160000
END:STANDARD
BEGIN:DAYLIGHT
TZOFFSETFROM:+1000
TZOFFSETTO:+1100
TZNAME:AEDT
DTSTART:20161001T160000
END:DAYLIGHT
BEGIN:STANDARD
TZOFFSETFROM:+1100
TZOFFSETTO:+1000
TZNAME:AEST
DTSTART:20170401T160000
END:STANDARD
BEGIN:DAYLIGHT
TZOFFSETFROM:+1000
TZOFFSETTO:+1100
TZNAME:AEDT
DTSTART:20170930T160000
END:DAYLIGHT
END:VTIMEZONE
BEGIN:VEVENT
DTSTART;TZID=Australia/Melbourne:20160916T190000
DTEND;TZID=Australia/Melbourne:20160916T203000
DTSTAMP:20260425T002811
CREATED:20151230T071940Z
LAST-MODIFIED:20250419T085632Z
UID:466-1474052400-1474057800@www.victorianfluteguild.org
SUMMARY:Leslie Barklamb Scholarship Finals
DESCRIPTION:
URL:https://www.victorianfluteguild.org/event/leslie-barklamb-scholarship-finals/
LOCATION:Flockart Hall\, MLC\, 207 Barkers Road\, Kew\, Melbourne\, Victoria\, 3101\, Australia
CATEGORIES:Leslie Barklamb
END:VEVENT
BEGIN:VEVENT
DTSTART;TZID=Australia/Melbourne:20160916T093000
DTEND;TZID=Australia/Melbourne:20160916T150000
DTSTAMP:20260425T002811
CREATED:20151230T072136Z
LAST-MODIFIED:20250419T085648Z
UID:467-1474018200-1474038000@www.victorianfluteguild.org
SUMMARY:Teacher's Professional Development Day
DESCRIPTION:
URL:https://www.victorianfluteguild.org/event/teachers-professional-development-day/
LOCATION:Victoria
CATEGORIES:VFG Workshops
END:VEVENT
BEGIN:VEVENT
DTSTART;VALUE=DATE:20160911
DTEND;VALUE=DATE:20160912
DTSTAMP:20260425T002811
CREATED:20151230T071448Z
LAST-MODIFIED:20250419T085702Z
UID:462-1473552000-1473638399@www.victorianfluteguild.org
SUMMARY:Leslie Barklamb Scholarship (Prelim Rounds)
DESCRIPTION:Registration forms for the competition may be found here:
URL:https://www.victorianfluteguild.org/event/leslie-barklamb-scholarship-prelim-rounds/
LOCATION:Victoria
CATEGORIES:Leslie Barklamb
END:VEVENT
BEGIN:VEVENT
DTSTART;TZID=Australia/Melbourne:20160717T143000
DTEND;TZID=Australia/Melbourne:20160717T153000
DTSTAMP:20260425T002811
CREATED:20151230T065934Z
LAST-MODIFIED:20250419T085717Z
UID:456-1468765800-1468769400@www.victorianfluteguild.org
SUMMARY:Leslie Barklamb Memorial Concert
DESCRIPTION:
URL:https://www.victorianfluteguild.org/event/leslie-barklamb-memorial-concert/
LOCATION:Richmond Town Hall (upstairs gallery)\, 333 Bridge Road\, Richmond\, Melbourne\, Victoria\, Australia
CATEGORIES:Leslie Barklamb
END:VEVENT
BEGIN:VEVENT
DTSTART;VALUE=DATE:20160522
DTEND;VALUE=DATE:20160523
DTSTAMP:20260425T002811
CREATED:20151230T065703Z
LAST-MODIFIED:20250419T085735Z
UID:454-1463875200-1463961599@www.victorianfluteguild.org
SUMMARY:Ensemble Competition
DESCRIPTION:For details and registration forms\, please click on the images below:
URL:https://www.victorianfluteguild.org/event/ensemble-competition/
LOCATION:James Tatoulis Auditorium & Flockart Hall\, MLC\, 207 Barkers Road\, Kew\, Melbourne\, Victoria\, 3101\, Australia
CATEGORIES:VFG Flute Ensembles
ORGANIZER;CN="Carolyn Grace":MAILTO:cagrace@primus.com.au
END:VEVENT
BEGIN:VEVENT
DTSTART;TZID=Australia/Melbourne:20160320T100000
DTEND;TZID=Australia/Melbourne:20160320T163000
DTSTAMP:20260425T002811
CREATED:20151230T070743Z
LAST-MODIFIED:20250419T085747Z
UID:458-1458468000-1458491400@www.victorianfluteguild.org
SUMMARY:Adult Flute Day
DESCRIPTION:Featuring fun warm ups\, large and small ensemble playing\, workshops on rhythm and extended techniques\, discussions about the history of flute music\, exploring the breadth and depth of flute repertoire for adults to enjoy.  BYO flute\, music stand\, lunch\, and water bottle.  Light morning and afternoon tea provided. \n10am – 4pm: Activities. \n4pm-4.30pm: Concert.  Friends and families are welcome to attend. \nCost: $35 Standard/$30 for VFG Members \nPlease click here for the registration form. \n 
URL:https://www.victorianfluteguild.org/event/flute-day-for-novices-young-old/
LOCATION:Flockart Hall\, MLC\, 207 Barkers Road\, Kew\, Melbourne\, Victoria\, 3101\, Australia
CATEGORIES:VFG Workshops
END:VEVENT
BEGIN:VEVENT
DTSTART;TZID=Australia/Melbourne:20160320T093000
DTEND;TZID=Australia/Melbourne:20160320T160000
DTSTAMP:20260425T002811
CREATED:20151230T070913Z
LAST-MODIFIED:20250419T085801Z
UID:461-1458466200-1458489600@www.victorianfluteguild.org
SUMMARY:New VCE Syllabus Exploration Day
DESCRIPTION:The best way to know what the music is like is to play it yourself! \nFor all students and teachers of the flute (and all interested others)! \nThe day will include hands-on performance of all: \nPre- and post- 20th century unaccompanied and accompanied repertoire in the VCE Syllabus. \nThis event is organised by Carolyn Grace.  All music and piano accompaniment are provided. \nPlease bring your flute and lunch on the day (tea and coffee provided). \nCost: $35 non-members/$30 VFG Members.  Statement of Attendance certificates will be provided. \nPlease click here for the registration form.
URL:https://www.victorianfluteguild.org/event/new-vce-syllabus-exploration-day/
LOCATION:Flockart Hall\, MLC\, 207 Barkers Road\, Kew\, Melbourne\, Victoria\, 3101\, Australia
CATEGORIES:VFG Workshops
ORGANIZER;CN="Carolyn Grace":MAILTO:cagrace@primus.com.au
END:VEVENT
BEGIN:VEVENT
DTSTART;TZID=Australia/Melbourne:20160320T091500
DTEND;TZID=Australia/Melbourne:20160320T163000
DTSTAMP:20260425T002811
CREATED:20151230T065429Z
LAST-MODIFIED:20250419T085813Z
UID:450-1458465300-1458491400@www.victorianfluteguild.org
SUMMARY:Junior Flutists Fun & Facts Day
DESCRIPTION:All flautists up to 14 years old are invited to a hands-on fun day with well known educator Peter Bartels. \nFeatures a Gala Concert at 4pm for parents & friends\, showcasing all the students in performance. \nPlease bring your flute\, music stand\, lunch\, and wear comfortable clothing. \nFor more information and registration details: VFGJFluteDay2016-flyer
URL:https://www.victorianfluteguild.org/event/juniorflutefun/
LOCATION:Victoria
CATEGORIES:VFG Workshops
ORGANIZER;CN="Peter Bartels":MAILTO:pbartels@iinet.net.au
END:VEVENT
END:VCALENDAR