BEGIN:VCALENDAR
VERSION:2.0
PRODID:-//The Victorian Flute Guild - ECPv6.15.20//NONSGML v1.0//EN
CALSCALE:GREGORIAN
METHOD:PUBLISH
X-WR-CALNAME:The Victorian Flute Guild
X-ORIGINAL-URL:https://www.victorianfluteguild.org
X-WR-CALDESC:Events for The Victorian Flute Guild
REFRESH-INTERVAL;VALUE=DURATION:PT1H
X-Robots-Tag:noindex
X-PUBLISHED-TTL:PT1H
BEGIN:VTIMEZONE
TZID:Australia/Melbourne
BEGIN:STANDARD
TZOFFSETFROM:+1100
TZOFFSETTO:+1000
TZNAME:AEST
DTSTART:20160402T160000
END:STANDARD
BEGIN:DAYLIGHT
TZOFFSETFROM:+1000
TZOFFSETTO:+1100
TZNAME:AEDT
DTSTART:20161001T160000
END:DAYLIGHT
BEGIN:STANDARD
TZOFFSETFROM:+1100
TZOFFSETTO:+1000
TZNAME:AEST
DTSTART:20170401T160000
END:STANDARD
BEGIN:DAYLIGHT
TZOFFSETFROM:+1000
TZOFFSETTO:+1100
TZNAME:AEDT
DTSTART:20170930T160000
END:DAYLIGHT
BEGIN:STANDARD
TZOFFSETFROM:+1100
TZOFFSETTO:+1000
TZNAME:AEST
DTSTART:20180331T160000
END:STANDARD
BEGIN:DAYLIGHT
TZOFFSETFROM:+1000
TZOFFSETTO:+1100
TZNAME:AEDT
DTSTART:20181006T160000
END:DAYLIGHT
BEGIN:STANDARD
TZOFFSETFROM:+1100
TZOFFSETTO:+1000
TZNAME:AEST
DTSTART:20190406T160000
END:STANDARD
BEGIN:DAYLIGHT
TZOFFSETFROM:+1000
TZOFFSETTO:+1100
TZNAME:AEDT
DTSTART:20191005T160000
END:DAYLIGHT
BEGIN:STANDARD
TZOFFSETFROM:+1100
TZOFFSETTO:+1000
TZNAME:AEST
DTSTART:20200404T160000
END:STANDARD
BEGIN:DAYLIGHT
TZOFFSETFROM:+1000
TZOFFSETTO:+1100
TZNAME:AEDT
DTSTART:20201003T160000
END:DAYLIGHT
BEGIN:STANDARD
TZOFFSETFROM:+1100
TZOFFSETTO:+1000
TZNAME:AEST
DTSTART:20210403T160000
END:STANDARD
BEGIN:DAYLIGHT
TZOFFSETFROM:+1000
TZOFFSETTO:+1100
TZNAME:AEDT
DTSTART:20211002T160000
END:DAYLIGHT
BEGIN:STANDARD
TZOFFSETFROM:+1100
TZOFFSETTO:+1000
TZNAME:AEST
DTSTART:20220402T160000
END:STANDARD
BEGIN:DAYLIGHT
TZOFFSETFROM:+1000
TZOFFSETTO:+1100
TZNAME:AEDT
DTSTART:20221001T160000
END:DAYLIGHT
BEGIN:STANDARD
TZOFFSETFROM:+1100
TZOFFSETTO:+1000
TZNAME:AEST
DTSTART:20230401T160000
END:STANDARD
BEGIN:DAYLIGHT
TZOFFSETFROM:+1000
TZOFFSETTO:+1100
TZNAME:AEDT
DTSTART:20230930T160000
END:DAYLIGHT
BEGIN:STANDARD
TZOFFSETFROM:+1100
TZOFFSETTO:+1000
TZNAME:AEST
DTSTART:20240406T160000
END:STANDARD
BEGIN:DAYLIGHT
TZOFFSETFROM:+1000
TZOFFSETTO:+1100
TZNAME:AEDT
DTSTART:20241005T160000
END:DAYLIGHT
BEGIN:STANDARD
TZOFFSETFROM:+1100
TZOFFSETTO:+1000
TZNAME:AEST
DTSTART:20250405T160000
END:STANDARD
BEGIN:DAYLIGHT
TZOFFSETFROM:+1000
TZOFFSETTO:+1100
TZNAME:AEDT
DTSTART:20251004T160000
END:DAYLIGHT
END:VTIMEZONE
BEGIN:VEVENT
DTSTART;TZID=Australia/Melbourne:20240825T140000
DTEND;TZID=Australia/Melbourne:20240825T170000
DTSTAMP:20260424T101858
CREATED:20240605T122508Z
LAST-MODIFIED:20250505T121707Z
UID:1934-1724594400-1724605200@www.victorianfluteguild.org
SUMMARY:Fantastic Flute Fun Play Day 2024
DESCRIPTION:
URL:https://www.victorianfluteguild.org/event/fun-day-2024/
LOCATION:James Forbes Academy Scotch College\, Morrison Street\, Hawthorn\, Victoria\, 3123\, Australia
CATEGORIES:VFG Workshops
ATTACH;FMTTYPE=image/jpeg:https://www.victorianfluteguild.org/wp-content/uploads/2024/06/A-fantastic-flute-fun-play-day-poster.jpg
END:VEVENT
BEGIN:VEVENT
DTSTART;TZID=Australia/Melbourne:20240811T090000
DTEND;TZID=Australia/Melbourne:20240811T170000
DTSTAMP:20260424T101858
CREATED:20240605T121620Z
LAST-MODIFIED:20250505T121750Z
UID:1928-1723366800-1723395600@www.victorianfluteguild.org
SUMMARY:51st Annual Leslie Barklamb Scholarship
DESCRIPTION:Download entry form
URL:https://www.victorianfluteguild.org/event/51st-barklamb-scholarship/
LOCATION:Methodist Ladies College\, 207 Barkers Road\, Kew\, Victoria\, 3101
CATEGORIES:Leslie Barklamb
ATTACH;FMTTYPE=image/jpeg:https://www.victorianfluteguild.org/wp-content/uploads/2024/06/Leslie-Barklamb-Scholarship-poster-2024.jpg
END:VEVENT
BEGIN:VEVENT
DTSTART;TZID=Australia/Melbourne:20240526T090000
DTEND;TZID=Australia/Melbourne:20240526T170000
DTSTAMP:20260424T101858
CREATED:20240605T123826Z
LAST-MODIFIED:20250514T082306Z
UID:1941-1716714000-1716742800@www.victorianfluteguild.org
SUMMARY:30th Annual Ensemble Competition
DESCRIPTION:The VFG Ensemble Competition began in 1994 as part of the Melbourne Flute Festival.  Since then it has become a major annual event on the VFG’s calendar\, attracting flute ensembles from schools\, tertiary institutions\, community groups\, and private entrants from across Victoria. \nDownload the entry form
URL:https://www.victorianfluteguild.org/event/30th-annual-ensemble-competition/
LOCATION:Methodist Ladies College\, 207 Barkers Road\, Kew\, Victoria\, 3101
CATEGORIES:VFG Flute Ensembles
ATTACH;FMTTYPE=image/jpeg:https://www.victorianfluteguild.org/wp-content/uploads/2024/06/Enesmble-Competition-2024-poster.jpg
ORGANIZER;CN="Carolyn Grace":MAILTO:cagrace@primus.com.au
END:VEVENT
BEGIN:VEVENT
DTSTART;TZID=Australia/Melbourne:20240518T100000
DTEND;TZID=Australia/Melbourne:20240518T130000
DTSTAMP:20260424T101858
CREATED:20240301T042938Z
LAST-MODIFIED:20250514T060515Z
UID:2436-1716026400-1716037200@www.victorianfluteguild.org
SUMMARY:Professional Development Day 2024
DESCRIPTION:The Victorian Flute Guild invites you to a focused and enriching morning of professional development on Saturday 18 May\, 2024. This year’s theme\, “Building blocks and breakthroughs for teaching beginner to advanced flautists\,” will explore both practical and psychological aspects of flute instruction. \nSession 1 – Joanna Sullivan: Teaching the fundamentals of beginner fluteDiscover creative strategies and effective lesson structures to engage and support beginner flute students. \nSession 2 – Dr Simone Maurer: Psychology of Motivation and Procrastination in Music Learning and PracticeLearn how to recognise and address motivational challenges in students using evidence-based psychological research. \nAttendees will receive a professional development certificate. \nCost: $25 VFG members | $50 non-members \nAudience: Flute teachers\, students\, and music educators
URL:https://www.victorianfluteguild.org/event/pd-2024/
LOCATION:The Hughes Room\, St Peters Eastern Hill\, 15 Gisborne Street\, East Melbourne\, Victoria\, 3002
CATEGORIES:VFG Workshops
ATTACH;FMTTYPE=image/jpeg:https://www.victorianfluteguild.org/wp-content/uploads/2025/05/VFG-PD-Day-2024-A4-Flyer.jpg
END:VEVENT
BEGIN:VEVENT
DTSTART;TZID=Australia/Melbourne:20240427T150000
DTEND;TZID=Australia/Melbourne:20240427T170000
DTSTAMP:20260424T101858
CREATED:20240331T020248Z
LAST-MODIFIED:20250514T081203Z
UID:1901-1714230000-1714237200@www.victorianfluteguild.org
SUMMARY:Leslie Barklamb Scholarship Benefit Concert
DESCRIPTION:Join the Victorian Flute Guild in their 2024 Leslie Barklamb Scholarship Benefit Concert!\nTaking place on Saturday the 27th of April at 3pm at the beautiful St Peter’s Anglican Church\, 1030-1038 Whitehorse Road\, Box Hill\, this event celebrates the winners of the 2023 Leslie Barklamb Scholarship and supports the upcoming 2024 competition. \nEnjoy an afternoon connecting with the Victorian flute community and supporting the young flute artists of Victoria. \nLeslie Barklamb Benefit Concert 2024-1
URL:https://www.victorianfluteguild.org/event/lbs-benefit-concert/
LOCATION:Victoria
CATEGORIES:Leslie Barklamb
ATTACH;FMTTYPE=image/jpeg:https://www.victorianfluteguild.org/wp-content/uploads/2014/12/lesliebarklambDotted.jpg
END:VEVENT
BEGIN:VEVENT
DTSTART;TZID=Australia/Melbourne:20230723T140000
DTEND;TZID=Australia/Melbourne:20230723T170000
DTSTAMP:20260424T101858
CREATED:20230501T082530Z
LAST-MODIFIED:20250515T010919Z
UID:2485-1690120800-1690131600@www.victorianfluteguild.org
SUMMARY:Fantastic Flute Fun Play Day
DESCRIPTION:Join the Victorian Flute Guild to partake in a wonderful afternoon of flutey fun! \nBring your instrument and a music stand\, make new flute friends and enjoy fabulous ensemble repertoire under the direction of Neil Fisenden.
URL:https://www.victorianfluteguild.org/event/fun-day-2023/
LOCATION:James Forbes Academy Scotch College\, Morrison Street\, Hawthorn\, Victoria\, 3123\, Australia
CATEGORIES:VFG Workshops
ATTACH;FMTTYPE=image/jpeg:https://www.victorianfluteguild.org/wp-content/uploads/2023/06/1f8bbf77-0378-504d-0ffd-b71cdf930cd5.jpeg
END:VEVENT
BEGIN:VEVENT
DTSTART;TZID=Australia/Melbourne:20221016T130000
DTEND;TZID=Australia/Melbourne:20221016T150000
DTSTAMP:20260424T101858
CREATED:20220307T105427Z
LAST-MODIFIED:20250505T121948Z
UID:1504-1665925200-1665932400@www.victorianfluteguild.org
SUMMARY:The VFG Annual General Meeting & Concert
DESCRIPTION:
URL:https://www.victorianfluteguild.org/event/vfg-agm-concert-2/
LOCATION:Victoria
CATEGORIES:AGM and Concert
END:VEVENT
BEGIN:VEVENT
DTSTART;TZID=Australia/Melbourne:20220902T190000
DTEND;TZID=Australia/Melbourne:20220902T220000
DTSTAMP:20260424T101858
CREATED:20220307T105149Z
LAST-MODIFIED:20250514T081234Z
UID:1502-1662145200-1662156000@www.victorianfluteguild.org
SUMMARY:The Annual Leslie Barklamb Scholarship - Finals Concert
DESCRIPTION:The Victorian Flute Guild warmly invites you to the Leslie Barklamb Scholarship Finals evening on the 2nd of September. The finals will feature performances by some of Victoria’s finest young flute players as they perform stunning repertoire from across the years in this showcase of exceptional skill and dedication to their craft. \nThe finals will be held at Armadale Uniting Church at 7pm. Tickets are available at the door\, and for any enquires please email info@victorianfluteguild.org
URL:https://www.victorianfluteguild.org/event/2022-lbs-finals-concert/
LOCATION:Victoria
CATEGORIES:Leslie Barklamb
ATTACH;FMTTYPE=image/png:https://www.victorianfluteguild.org/wp-content/uploads/2022/08/2022-August-Magazine-1.png
END:VEVENT
BEGIN:VEVENT
DTSTART;TZID=Australia/Melbourne:20220902T093000
DTEND;TZID=Australia/Melbourne:20220902T150000
DTSTAMP:20260424T101858
CREATED:20220815T070241Z
LAST-MODIFIED:20250514T051756Z
UID:1606-1662111000-1662130800@www.victorianfluteguild.org
SUMMARY:Professional Development Day 2022
DESCRIPTION:Join the Victorian Flute Guild as it presents a Professional Development Day with Peter Bartels at the helm. \n\n\n\nFrom 9:30am until 3:00pm on Friday September 2nd Peter will lead participants through a range of activities incorporating movement exploration and various tools that can be carried through into the participants own artistic practice. \n\n\n\nRegister by downloading the form below and emailing the completed document to info@victorianfluteguild.org \n \nVFG_PD_Day_2022 VFG_PD_Day_2022 
URL:https://www.victorianfluteguild.org/event/pd-2022/
LOCATION:Presbyterian Ladies College\, Burwood Highway\, Burwood\, Melbourne\, VIC\, Australia
CATEGORIES:VFG Workshops
ORGANIZER;CN="Peter Bartels":MAILTO:pbartels@iinet.net.au
END:VEVENT
BEGIN:VEVENT
DTSTART;TZID=Australia/Melbourne:20220828T080000
DTEND;TZID=Australia/Melbourne:20220828T170000
DTSTAMP:20260424T101858
CREATED:20220307T105035Z
LAST-MODIFIED:20250514T081300Z
UID:1500-1661673600-1661706000@www.victorianfluteguild.org
SUMMARY:The Annual Leslie Barklamb Scholarship - Preliminary Rounds
DESCRIPTION:The Victorian Flute Guild is holding the 49th annual Leslie Barklamb Scholarship in 2022\, with preliminary rounds to be conducted on Sunday 28 August at Methodist Ladies’ College\, Kew. The finals concert will take place on Friday 2 September at Armadale Uniting Church. \nSections included: \n\n11 Years & Under\n13 Years & Under\n15 Years & Under (Margaret Brooke Award)\nVCE/IB Section\nIntermediate Section – 18 Years & Under (Nariida Coleman Award)\nSenior Section – 25 Years & Under (Leslie Barklamb Scholarship)\n\nEach section features set works and own choice pieces\, with time limits ranging from 3 to 15 minutes. Finalists from the Intermediate and Senior sections\, and winners from the younger divisions\, perform at the finals concert. \nAll performers are required to be members of the Victorian Flute Guild. Prizes are awarded as cheques or vouchers.
URL:https://www.victorianfluteguild.org/event/2022-lbs-preliminary-rounds/
LOCATION:Methodist Ladies College\, 207 Barkers Road\, Kew\, Victoria\, 3101
CATEGORIES:Leslie Barklamb
ATTACH;FMTTYPE=image/jpeg:https://www.victorianfluteguild.org/wp-content/uploads/2022/03/E942026A-C9D9-4FEB-97AC-AEEE7B125591.jpeg
END:VEVENT
BEGIN:VEVENT
DTSTART;TZID=Australia/Melbourne:20220522T080000
DTEND;TZID=Australia/Melbourne:20220522T170000
DTSTAMP:20260424T101858
CREATED:20220307T104926Z
LAST-MODIFIED:20250514T022233Z
UID:1498-1653206400-1653238800@www.victorianfluteguild.org
SUMMARY:The Annual VFG Flute Ensemble Competition 2022
DESCRIPTION:The 28th annual Flute Ensemble Competition\, presented by the Victorian Flute Guild\, is held on Sunday 22nd May 2022 at the Methodist Ladies College Music School\, 207 Barkers Road\, Kew VIC. \nThe competition includes the following categories: \n\nPrimary School Groups: Duets\, Duets plus One\, Small Ensembles\, and Large Ensembles (max time 5 mins)\n14 Years and Under: Duets\, Duets plus One\, Small Ensembles\, and Large Ensembles (max time 6 mins)\n16 Years and Under: Duets\, Duets plus One\, Small Ensembles\, and Large Ensembles (max time 7 mins)\n18 Years and Under: Duets\, Duets plus One\, Small Ensembles\, and Large Ensembles (max time 8 mins)\nOpen Section: Duets\, Duets plus One\, Small Ensembles\, and Large Ensembles (max time 10 mins)\n\nEach ensemble is required to provide adjudicators with a copy of the score for each work\, with bar numbers marked approximately every fifth bar. Time limits are strictly observed\, and all ensemble members were responsible for arriving on time and providing their own accompanists where necessary. \nAll participants receive a short review of their performance and a Certificate of Merit. Winners of each section are eligible to be invited to perform at the Annual Victorian Flute Guild Concert and General Meeting in September/October 2022. \nEntries close on 22nd April 2022. For further information\, enquiries should be directed to Jess Farrell at info@victorianfluteguild.org.
URL:https://www.victorianfluteguild.org/event/the-annual-vfg-flute-ensemble-competition/
LOCATION:Victoria
CATEGORIES:VFG Flute Ensembles
ATTACH;FMTTYPE=image/jpeg:https://www.victorianfluteguild.org/wp-content/uploads/2022/03/2F29C8B9-E1AB-49BF-ABAE-E99567777646.jpeg
END:VEVENT
BEGIN:VEVENT
DTSTART;TZID=Australia/Melbourne:20220430T160000
DTEND;TZID=Australia/Melbourne:20220430T180000
DTSTAMP:20260424T101858
CREATED:20220307T104801Z
LAST-MODIFIED:20250514T081320Z
UID:1494-1651334400-1651341600@www.victorianfluteguild.org
SUMMARY:2022 Leslie Barklamb Scholarship Benefit Concert
DESCRIPTION:🎵 Leslie Barklamb Scholarship Fundraiser Concert 2022\nPresented by the Victorian Flute Guild Inc \n📅 Saturday 30th April\, 4:00 PM📍 St Peter’s Church\, 1038 Whitehorse Road\, Box Hill \nJoin us for a special afternoon of music featuring previous winners of the Leslie Barklamb Scholarship\, performing a diverse and captivating program. This fundraiser concert supports the ongoing success of the Scholarship\, which continues to foster the talents of young flautists across Victoria. \n🎶 Concert Program\nEmily Ngo – Halloween Dance (Engelmann) & Petite Valse (Caplet)Caroline Fu – Hot on the Line (Wedgwood) & Flute Concerto Movt I: Allegro (Ibert)Aria Chen – Sonata in C Major Movt II: Allegro & Movt III: Adagio (J.S. Bach)Emily Chapman – Sunday Morning (Ian Clarke)Kylie Wang – Concertino (Chaminade)Min Wu – Lensky’s Aria (Tchaikovsky\, arr. Mihi Kim) & Tango Fantasia (Jacob Gade)Piccolo Trio: Julia Grenfell\, Andrew Macleod\, Lloyd Hudson – Piccolo Ridicolo (Julia Grenfell)Victorian Flute Ensemble –• Adagio from Op.11 String Quartet (Samuel Barber)• A Gaelic Overture (David O’Fallon) \n🎼 To conclude\, all performers and audience members are invited to join in a performance of “All Things Bright and Beautiful” by John Rutter. \n🎹 Accompanists\nLeigh Harrold and Ying He \n\n🎟️ Ticket Information\n\n\nAdults: $15 \n\n\nConcession / VFG Members: $10 \n\n\nChildren under 15: Free \n\n\nNo pre-booking required. \n\n\n📞 Enquiries: Johanna Selleck – 0419 107 308✉️ Email: johannaselleck@optusnet.com.au
URL:https://www.victorianfluteguild.org/event/2022-lbs-benefit-concert/
LOCATION:Victoria
CATEGORIES:Leslie Barklamb
ATTACH;FMTTYPE=image/jpeg:https://www.victorianfluteguild.org/wp-content/uploads/2014/12/lesliebarklambDotted.jpg
END:VEVENT
BEGIN:VEVENT
DTSTART;TZID=Australia/Melbourne:20211205T190000
DTEND;TZID=Australia/Melbourne:20211205T200000
DTSTAMP:20260424T101858
CREATED:20211205T010008Z
LAST-MODIFIED:20250419T083135Z
UID:1468-1638730800-1638734400@www.victorianfluteguild.org
SUMMARY:The 2021 VFG AGM & Concert
DESCRIPTION:
URL:https://www.victorianfluteguild.org/event/the-2021-vfg-agm-concert/
LOCATION:Victoria
CATEGORIES:AGM and Concert
ATTACH;FMTTYPE=image/png:https://www.victorianfluteguild.org/wp-content/uploads/2021/12/B1643D4F-A341-4317-9B0D-55DA8993518B.png
END:VEVENT
BEGIN:VEVENT
DTSTART;TZID=Australia/Melbourne:20210910T190000
DTEND;TZID=Australia/Melbourne:20210910T210000
DTSTAMP:20260424T101858
CREATED:20210711T035139Z
LAST-MODIFIED:20250419T083204Z
UID:1419-1631300400-1631307600@www.victorianfluteguild.org
SUMMARY:The 48th Annual Leslie Barklamb Scholarship - Finals Concert
DESCRIPTION:  \n[👉🏻CLICK HERE FOR THE OFFICIAL FINALS CONCERT 2021 PROGRAM] \n  \n[👉🏻CLICK HERE FOR THE FINALS CONCERT 2021 YOUTUBE LINK] \n 
URL:https://www.victorianfluteguild.org/event/the-48th-annual-leslie-barklamb-scholarship-finals-concert/
LOCATION:Victoria
CATEGORIES:Leslie Barklamb
ATTACH;FMTTYPE=image/png:https://www.victorianfluteguild.org/wp-content/uploads/2021/07/9E89A0D6-9781-421A-B82F-E1C23C187E1C.png
END:VEVENT
BEGIN:VEVENT
DTSTART;VALUE=DATE:20210903
DTEND;VALUE=DATE:20210904
DTSTAMP:20260424T101858
CREATED:20210711T035229Z
LAST-MODIFIED:20250419T083217Z
UID:1421-1630627200-1630713599@www.victorianfluteguild.org
SUMMARY:Professional Development Day 2021
DESCRIPTION:
URL:https://www.victorianfluteguild.org/event/professional-development-day-2021/
LOCATION:St Catherine’s School\, Toorak\, Toorak\, Victoria\, Australia
CATEGORIES:VFG Workshops
ATTACH;FMTTYPE=image/png:https://www.victorianfluteguild.org/wp-content/uploads/2021/07/8CB77225-935E-43FE-AA6F-9E59B9144853.png
END:VEVENT
BEGIN:VEVENT
DTSTART;VALUE=DATE:20210829
DTEND;VALUE=DATE:20210830
DTSTAMP:20260424T101858
CREATED:20210711T035004Z
LAST-MODIFIED:20250419T083233Z
UID:1417-1630195200-1630281599@www.victorianfluteguild.org
SUMMARY:The 48th Annual Leslie Barklamb Scholarship - Preliminary Rounds
DESCRIPTION:
URL:https://www.victorianfluteguild.org/event/the-48th-annual-leslie-barklamb-scholarship-preliminary-rounds/
LOCATION:Victoria
CATEGORIES:Leslie Barklamb
ATTACH;FMTTYPE=image/png:https://www.victorianfluteguild.org/wp-content/uploads/2021/07/2CF9E149-0900-407D-9900-EDF608FF5009.png
END:VEVENT
BEGIN:VEVENT
DTSTART;TZID=Australia/Melbourne:20210417T183000
DTEND;TZID=Australia/Melbourne:20210417T203000
DTSTAMP:20260424T101858
CREATED:20210314T110910Z
LAST-MODIFIED:20250419T083247Z
UID:1374-1618684200-1618691400@www.victorianfluteguild.org
SUMMARY:Leslie Barklamb Scholarship - Fundraiser Concert 2021
DESCRIPTION:COVIDSafePublicEventRegistrationForm-4620
URL:https://www.victorianfluteguild.org/event/leslie-barklamb-scholarship-fundraiser-concert-2021/
LOCATION:Victoria
CATEGORIES:Leslie Barklamb
ATTACH;FMTTYPE=image/jpeg:https://www.victorianfluteguild.org/wp-content/uploads/2021/03/292E1CCA-A37E-4108-94B3-D9FE3BE3B157.jpeg
END:VEVENT
BEGIN:VEVENT
DTSTART;TZID=Australia/Melbourne:20191124T143000
DTEND;TZID=Australia/Melbourne:20191124T163000
DTSTAMP:20260424T101858
CREATED:20191110T102852Z
LAST-MODIFIED:20250419T085833Z
UID:1310-1574605800-1574613000@www.victorianfluteguild.org
SUMMARY:The Victorian Flute Ensemble presents - The Four Seasons
DESCRIPTION:
URL:https://www.victorianfluteguild.org/event/the-victorian-flute-ensemble-presents-the-four-seasons/
LOCATION:The Ballarat Art Gallery\, 40 Lydiard Street North\, Ballarat Central\, Victoria\, Australia
CATEGORIES:VFG Flute Ensembles
ATTACH;FMTTYPE=image/jpeg:https://www.victorianfluteguild.org/wp-content/uploads/2019/11/47F5DCB1-397A-4E3F-94BD-4C1347C001CB.jpeg
ORGANIZER;CN="Carolyn Grace":MAILTO:cagrace@primus.com.au
END:VEVENT
BEGIN:VEVENT
DTSTART;TZID=Australia/Melbourne:20191020T140000
DTEND;TZID=Australia/Melbourne:20191020T153000
DTSTAMP:20260424T101858
CREATED:20191008T232451Z
LAST-MODIFIED:20250419T083311Z
UID:1295-1571580000-1571585400@www.victorianfluteguild.org
SUMMARY:Annual General Meeting & Concert
DESCRIPTION:A short meeting followed by performances by the winner of the Leslie Barklamb Scholarship 2019\, Flute Ensembles of the VFG\, and a presentation by Fred Shade\, ex-Principal Piccolo of the MSO and previous Committee Member of the VFG.
URL:https://www.victorianfluteguild.org/event/annual-general-meeting-concert/
LOCATION:Victoria
CATEGORIES:AGM and Concert
ATTACH;FMTTYPE=image/jpeg:https://www.victorianfluteguild.org/wp-content/uploads/2019/10/B0D3C8BF-2A32-45A1-8625-CB0B491F6C1A.jpeg
END:VEVENT
BEGIN:VEVENT
DTSTART;TZID=Australia/Melbourne:20190830T190000
DTEND;TZID=Australia/Melbourne:20190830T210000
DTSTAMP:20260424T101858
CREATED:20190206T002338Z
LAST-MODIFIED:20250419T083323Z
UID:1125-1567191600-1567198800@www.victorianfluteguild.org
SUMMARY:Leslie Barklamb Scholarship Finals
DESCRIPTION:Contact: Annette Sloan 0417102320\, Johanna Selleck 0419107308
URL:https://www.victorianfluteguild.org/event/leslie-barklamb-scholarship-finals-2/
LOCATION:Victoria
CATEGORIES:Leslie Barklamb
END:VEVENT
BEGIN:VEVENT
DTSTART;TZID=Australia/Melbourne:20190830T090000
DTEND;TZID=Australia/Melbourne:20190830T170000
DTSTAMP:20260424T101858
CREATED:20190722T185143Z
LAST-MODIFIED:20250419T083335Z
UID:1268-1567155600-1567184400@www.victorianfluteguild.org
SUMMARY:Professional Development Day
DESCRIPTION:Presented by Kathryn Moorhead \nContact: Annette Sloan 0417102320
URL:https://www.victorianfluteguild.org/event/professional-development-day/
LOCATION:St Catherine’s School\, Toorak\, Toorak\, Victoria\, Australia
CATEGORIES:VFG Workshops
END:VEVENT
BEGIN:VEVENT
DTSTART;TZID=Australia/Melbourne:20190825T080000
DTEND;TZID=Australia/Melbourne:20190825T170000
DTSTAMP:20260424T101858
CREATED:20190722T184818Z
LAST-MODIFIED:20250419T083349Z
UID:1265-1566720000-1566752400@www.victorianfluteguild.org
SUMMARY:Leslie Barklamb Scholarship Preliminary Rounds
DESCRIPTION:Enquiries: Annette Sloan 0417102320\, Johanna Selleck 0419107308
URL:https://www.victorianfluteguild.org/event/leslie-barklamb-scholarship-preliminary-rounds/
LOCATION:Victoria
CATEGORIES:Leslie Barklamb
ATTACH;FMTTYPE=image/jpeg:https://www.victorianfluteguild.org/wp-content/uploads/2014/12/LeslieBarklambSlider.jpg
END:VEVENT
BEGIN:VEVENT
DTSTART;TZID=Australia/Melbourne:20190710T183000
DTEND;TZID=Australia/Melbourne:20190710T210000
DTSTAMP:20260424T101858
CREATED:20190206T002035Z
LAST-MODIFIED:20250514T015748Z
UID:1121-1562783400-1562792400@www.victorianfluteguild.org
SUMMARY:VFG 50th Anniversary Gala Concert
DESCRIPTION:Wednesday 10th July 2019\, 6.30pm \nAustralian National Academy of Music\, South Melbourne Town Hall \n 
URL:https://www.victorianfluteguild.org/event/vfg-50th-anniversary-concert/
LOCATION:Australian National Academy of Music\, South Melbourne Town Hall\, Bank Street\, South Melbourne\, Victoria\, 3205\, Australia
CATEGORIES:Special Event
ATTACH;FMTTYPE=image/jpeg:https://www.victorianfluteguild.org/wp-content/uploads/2019/07/8842810A-1C86-47A3-B359-05EA0A357915.jpeg
END:VEVENT
BEGIN:VEVENT
DTSTART;TZID=Australia/Melbourne:20190526T090000
DTEND;TZID=Australia/Melbourne:20190526T170000
DTSTAMP:20260424T101858
CREATED:20190206T001551Z
LAST-MODIFIED:20250419T083405Z
UID:1114-1558861200-1558890000@www.victorianfluteguild.org
SUMMARY:VFG 26th  Flute Ensemble Competition
DESCRIPTION:MLC Music School \n207 Barkers Rd\, Kew \nEnquiries: Jess Farrell 0430 324 547 \njess.farrell@live.com
URL:https://www.victorianfluteguild.org/event/vfg-26th-flute-ensemble-competition/
LOCATION:Flockart Hall\, MLC\, 207 Barkers Road\, Kew\, Melbourne\, Victoria\, 3101\, Australia
CATEGORIES:VFG Flute Ensembles
END:VEVENT
BEGIN:VEVENT
DTSTART;TZID=Australia/Melbourne:20181125T143000
DTEND;TZID=Australia/Melbourne:20181125T153000
DTSTAMP:20260424T101858
CREATED:20180903T021141Z
LAST-MODIFIED:20250419T083420Z
UID:1014-1543156200-1543159800@www.victorianfluteguild.org
SUMMARY:Victorian Flute Ensemble Concert - November 25
DESCRIPTION:The Victorian Flute Ensemble and Carolyn Grace presents: \nThe Fantastic Toyshop \nBallarat Art Gallary – Oddie Gallary \n \nDirector – Carolyn Grace
URL:https://www.victorianfluteguild.org/event/victorian-flute-ensemble-concert-november-25/
LOCATION:Victoria
CATEGORIES:VFG Flute Ensembles
END:VEVENT
BEGIN:VEVENT
DTSTART;TZID=Australia/Melbourne:20181021T140000
DTEND;TZID=Australia/Melbourne:20181021T153000
DTSTAMP:20260424T101858
CREATED:20180903T021016Z
LAST-MODIFIED:20250419T083431Z
UID:1011-1540130400-1540135800@www.victorianfluteguild.org
SUMMARY:Annual General Meeting & Concert - October 21
DESCRIPTION:
URL:https://www.victorianfluteguild.org/event/annual-general-meeting-october-21/
LOCATION:Victoria
CATEGORIES:AGM and Concert
END:VEVENT
BEGIN:VEVENT
DTSTART;TZID=Australia/Melbourne:20171125T140000
DTEND;TZID=Australia/Melbourne:20171125T160000
DTSTAMP:20260424T101858
CREATED:20171120T224759Z
LAST-MODIFIED:20250419T085914Z
UID:873-1511618400-1511625600@www.victorianfluteguild.org
SUMMARY:The Victorian Flute Ensemble - A Journey Into Space And Beyond
DESCRIPTION:
URL:https://www.victorianfluteguild.org/event/the-victorian-flute-ensemble-a-journey-into-space-and-beyond/
LOCATION:Library at the Dock Docklands Melbourne\, 107 Victorain Harbour Promenade\, Docklands\, Vic\, Australia
CATEGORIES:VFG Flute Ensembles
END:VEVENT
BEGIN:VEVENT
DTSTART;TZID=Australia/Melbourne:20171022T140000
DTEND;TZID=Australia/Melbourne:20171022T153000
DTSTAMP:20260424T101858
CREATED:20170220T060632Z
LAST-MODIFIED:20250419T083444Z
UID:680-1508680800-1508686200@www.victorianfluteguild.org
SUMMARY:The 2017 VFG AGM Concert
DESCRIPTION:The 2017 VFG AGM Concert \nA short meeting followed by a concert featuring local flute ensembles and soloists. Also the winner of the 2017 Leslie Barklamb Flute Scholarship and a presentation by Wendy Clarke\, Associate Principal Flute of the MSO. All are welcome! \nNEW VENUE: \nThe Collingwood Senior Citizens Centre  \n\nadjacent to Collingwood Town Hall\nshort walk from Collingwood Train Station\nShort walk from Hoddel Street\nunrestricted on street parking available surrounding the venue\nunrestricted car park available behind St Philip’s Anglican Church (enter through Eddy Court)\n\n \n\n \n\n \n\n  \n 
URL:https://www.victorianfluteguild.org/event/agm2017/
LOCATION:Victoria
CATEGORIES:AGM and Concert
ATTACH;FMTTYPE=image/jpeg:https://www.victorianfluteguild.org/wp-content/uploads/2017/02/image.jpeg
END:VEVENT
BEGIN:VEVENT
DTSTART;TZID=Australia/Melbourne:20170825T190000
DTEND;TZID=Australia/Melbourne:20170825T210000
DTSTAMP:20260424T101858
CREATED:20170220T060305Z
LAST-MODIFIED:20250419T083500Z
UID:675-1503687600-1503694800@www.victorianfluteguild.org
SUMMARY:Leslie Barklamb Scholarship: Final
DESCRIPTION:For more details on the competition click here
URL:https://www.victorianfluteguild.org/event/leslie-barklamb-scholarship-final/
LOCATION:Flockart Hall\, MLC\, 207 Barkers Road\, Kew\, Melbourne\, Victoria\, 3101\, Australia
CATEGORIES:Leslie Barklamb
END:VEVENT
BEGIN:VEVENT
DTSTART;VALUE=DATE:20170806
DTEND;VALUE=DATE:20170807
DTSTAMP:20260424T101858
CREATED:20170220T054942Z
LAST-MODIFIED:20250419T085516Z
UID:671-1501977600-1502063999@www.victorianfluteguild.org
SUMMARY:Leslie Barklamb Scholarship: Preliminaries
DESCRIPTION:For more details please click here
URL:https://www.victorianfluteguild.org/event/leslie-barklamb-scholarship-preliminaries/
LOCATION:Victoria
CATEGORIES:Leslie Barklamb
END:VEVENT
END:VCALENDAR