BEGIN:VCALENDAR
VERSION:2.0
PRODID:-//The Victorian Flute Guild - ECPv6.15.20//NONSGML v1.0//EN
CALSCALE:GREGORIAN
METHOD:PUBLISH
X-WR-CALNAME:The Victorian Flute Guild
X-ORIGINAL-URL:https://www.victorianfluteguild.org
X-WR-CALDESC:Events for The Victorian Flute Guild
REFRESH-INTERVAL;VALUE=DURATION:PT1H
X-Robots-Tag:noindex
X-PUBLISHED-TTL:PT1H
BEGIN:VTIMEZONE
TZID:Australia/Melbourne
BEGIN:STANDARD
TZOFFSETFROM:+1100
TZOFFSETTO:+1000
TZNAME:AEST
DTSTART:20250405T160000
END:STANDARD
BEGIN:DAYLIGHT
TZOFFSETFROM:+1000
TZOFFSETTO:+1100
TZNAME:AEDT
DTSTART:20251004T160000
END:DAYLIGHT
BEGIN:STANDARD
TZOFFSETFROM:+1100
TZOFFSETTO:+1000
TZNAME:AEST
DTSTART:20260404T160000
END:STANDARD
BEGIN:DAYLIGHT
TZOFFSETFROM:+1000
TZOFFSETTO:+1100
TZNAME:AEDT
DTSTART:20261003T160000
END:DAYLIGHT
BEGIN:STANDARD
TZOFFSETFROM:+1100
TZOFFSETTO:+1000
TZNAME:AEST
DTSTART:20270403T160000
END:STANDARD
BEGIN:DAYLIGHT
TZOFFSETFROM:+1000
TZOFFSETTO:+1100
TZNAME:AEDT
DTSTART:20271002T160000
END:DAYLIGHT
END:VTIMEZONE
BEGIN:VEVENT
DTSTART;TZID=Australia/Melbourne:20260904T190000
DTEND;TZID=Australia/Melbourne:20260904T210000
DTSTAMP:20260424T100215
CREATED:20260116T052849Z
LAST-MODIFIED:20260218T095911Z
UID:2956-1788548400-1788555600@www.victorianfluteguild.org
SUMMARY:53rd Annual Leslie Barklamb Scholarship - Finals Concert 2026
DESCRIPTION:The 2026 Leslie Barklamb Scholarship finals bring together outstanding young flautists for an evening concert celebrating excellence\, dedication and emerging artistry. This special event forms the culmination of the 53rd Annual Leslie Barklamb Scholarship Competition. \nThe concert features performances by invited finalists following the preliminary rounds\, including winners of the 11\, 13 and 15 years and under sections and the VCE section\, as well as finalists in the 18 years and under and 25 years and under (Scholarship) categories. During the concert\, the recipients of the senior awards will be determined. \nAudiences are invited to enjoy a program showcasing a wide range of repertoire and performance styles\, highlighting the musical development and individuality of each finalist. The 2026 Leslie Barklamb Scholarship finals are a highlight of the Victorian flute calendar and an opportunity to support young musicians at a pivotal moment in their musical journey. \nAudience tickets available at the door. \n[Download the entry form]
URL:https://www.victorianfluteguild.org/event/2026-barklamb-finals/
LOCATION:Armadale Baptist Church\, 88 Kooyong Road\, Armadale\, Victoria\, 3143\, Australia
CATEGORIES:Leslie Barklamb
ATTACH;FMTTYPE=image/jpeg:https://www.victorianfluteguild.org/wp-content/uploads/2026/01/Barklamb-2026-poster.jpg
END:VEVENT
BEGIN:VEVENT
DTSTART;TZID=Australia/Melbourne:20261018T140000
DTEND;TZID=Australia/Melbourne:20261018T153000
DTSTAMP:20260424T100215
CREATED:20260116T043740Z
LAST-MODIFIED:20260116T043901Z
UID:2943-1792332000-1792337400@www.victorianfluteguild.org
SUMMARY:2026 AGM and Concert
DESCRIPTION:Join us for the 2026 AGM and Concert\, an afternoon bringing together community\, music and shared participation within the Victorian Flute Guild. \nThe event will begin with a brief Annual General Meeting\, followed by a short concert showcasing the three Victorian Flute Guild ensembles: \n\n\nValda Fouvy Group (directed by Kaye Duffell) \n\n\nWest Wind Flutes (directed by Renée Petale) \n\n\nVictorian Flute Ensemble (directed by Carolyn Grace) \n\n\nThe concert highlights the breadth of flute playing within the Guild and celebrates collaboration across different playing levels and styles. \nThe afternoon will conclude with a massed flutes performance\, with all attendees warmly invited to bring their flutes and join in making music together. A relaxed afternoon tea will follow\, providing an opportunity to socialise and connect with fellow members of the Victorian flute community. \nAll Victorian Flute Guild members and members of the broader flute community are warmly invited to attend the 2026 AGM and Concert.
URL:https://www.victorianfluteguild.org/event/2026-agm-and-concert/
LOCATION:Stonnington Community Uniting Church\, 59 Burke Road\, East Malvern\, Victoria\, 3145
CATEGORIES:AGM and Concert
ATTACH;FMTTYPE=image/jpeg:https://www.victorianfluteguild.org/wp-content/uploads/2026/01/2026-AGM-poster-jpeg.jpg
END:VEVENT
END:VCALENDAR