BEGIN:VCALENDAR
VERSION:2.0
PRODID:-//The Victorian Flute Guild - ECPv6.15.20//NONSGML v1.0//EN
CALSCALE:GREGORIAN
METHOD:PUBLISH
X-WR-CALNAME:The Victorian Flute Guild
X-ORIGINAL-URL:https://www.victorianfluteguild.org
X-WR-CALDESC:Events for The Victorian Flute Guild
REFRESH-INTERVAL;VALUE=DURATION:PT1H
X-Robots-Tag:noindex
X-PUBLISHED-TTL:PT1H
BEGIN:VTIMEZONE
TZID:Australia/Melbourne
BEGIN:STANDARD
TZOFFSETFROM:+1100
TZOFFSETTO:+1000
TZNAME:AEST
DTSTART:20240406T160000
END:STANDARD
BEGIN:DAYLIGHT
TZOFFSETFROM:+1000
TZOFFSETTO:+1100
TZNAME:AEDT
DTSTART:20241005T160000
END:DAYLIGHT
BEGIN:STANDARD
TZOFFSETFROM:+1100
TZOFFSETTO:+1000
TZNAME:AEST
DTSTART:20250405T160000
END:STANDARD
BEGIN:DAYLIGHT
TZOFFSETFROM:+1000
TZOFFSETTO:+1100
TZNAME:AEDT
DTSTART:20251004T160000
END:DAYLIGHT
BEGIN:STANDARD
TZOFFSETFROM:+1100
TZOFFSETTO:+1000
TZNAME:AEST
DTSTART:20260404T160000
END:STANDARD
BEGIN:DAYLIGHT
TZOFFSETFROM:+1000
TZOFFSETTO:+1100
TZNAME:AEDT
DTSTART:20261003T160000
END:DAYLIGHT
END:VTIMEZONE
BEGIN:VEVENT
DTSTART;TZID=Australia/Melbourne:20250315T093000
DTEND;TZID=Australia/Melbourne:20250315T123000
DTSTAMP:20260424T212332
CREATED:20250119T052026Z
LAST-MODIFIED:20250419T090807Z
UID:2007-1742031000-1742041800@www.victorianfluteguild.org
SUMMARY:Bodymapping and the Foundations of Technique with Peter Bartels
DESCRIPTION:Body Mapping and the Foundations of Technique with Peter Bartels \nJoin renowned flautist and educator Peter Bartels for an insightful workshop exploring two essential aspects of flute playing: Body Mapping for Flautists and Flute Teachers and The Foundations of Technique. \nBody Mapping for Flautists and Flute Teachers\nDiscover how to achieve physical balance and efficient movement to enhance your playing. This session offers practical tools for establishing a well-grounded somatic foundation\, empowering both you and your students to play with greater ease\, precision\, and musicality. \nThe Foundations of Technique\nThis focused session delves into the core principles and approaches for building strong\, reliable flute technique. Gain valuable insights to guide your students in developing the technical foundations essential for confident and expressive playing. \nDesigned for flautists and teachers alike\, this workshop provides practical knowledge and strategies that can be applied immediately to your playing or teaching practice. Don’t miss this opportunity to learn from an expert and deepen your understanding of the connection between body awareness and technical mastery. \nBookings open 1 February.
URL:https://www.victorianfluteguild.org/event/bodymapping-2025/
LOCATION:The Hughes Room\, St Peters Eastern Hill\, 15 Gisborne Street\, East Melbourne\, Victoria\, 3002
CATEGORIES:VFG Workshops
ATTACH;FMTTYPE=image/jpeg:https://www.victorianfluteguild.org/wp-content/uploads/2025/01/PD-Day-2025-poster-final-3.jpg
END:VEVENT
END:VCALENDAR