BEGIN:VCALENDAR
VERSION:2.0
PRODID:-//The Victorian Flute Guild - ECPv6.15.20//NONSGML v1.0//EN
CALSCALE:GREGORIAN
METHOD:PUBLISH
X-ORIGINAL-URL:https://www.victorianfluteguild.org
X-WR-CALDESC:Events for The Victorian Flute Guild
REFRESH-INTERVAL;VALUE=DURATION:PT1H
X-Robots-Tag:noindex
X-PUBLISHED-TTL:PT1H
BEGIN:VTIMEZONE
TZID:Australia/Melbourne
BEGIN:STANDARD
TZOFFSETFROM:+1100
TZOFFSETTO:+1000
TZNAME:AEST
DTSTART:20150404T160000
END:STANDARD
BEGIN:DAYLIGHT
TZOFFSETFROM:+1000
TZOFFSETTO:+1100
TZNAME:AEDT
DTSTART:20151003T160000
END:DAYLIGHT
BEGIN:STANDARD
TZOFFSETFROM:+1100
TZOFFSETTO:+1000
TZNAME:AEST
DTSTART:20160402T160000
END:STANDARD
BEGIN:DAYLIGHT
TZOFFSETFROM:+1000
TZOFFSETTO:+1100
TZNAME:AEDT
DTSTART:20161001T160000
END:DAYLIGHT
BEGIN:STANDARD
TZOFFSETFROM:+1100
TZOFFSETTO:+1000
TZNAME:AEST
DTSTART:20170401T160000
END:STANDARD
BEGIN:DAYLIGHT
TZOFFSETFROM:+1000
TZOFFSETTO:+1100
TZNAME:AEDT
DTSTART:20170930T160000
END:DAYLIGHT
BEGIN:STANDARD
TZOFFSETFROM:+1100
TZOFFSETTO:+1000
TZNAME:AEST
DTSTART:20180331T160000
END:STANDARD
BEGIN:DAYLIGHT
TZOFFSETFROM:+1000
TZOFFSETTO:+1100
TZNAME:AEDT
DTSTART:20181006T160000
END:DAYLIGHT
END:VTIMEZONE
BEGIN:VEVENT
DTSTART;TZID=Australia/Melbourne:20171125T140000
DTEND;TZID=Australia/Melbourne:20171125T160000
DTSTAMP:20260424T053054
CREATED:20171120T224759Z
LAST-MODIFIED:20250419T085914Z
UID:873-1511618400-1511625600@www.victorianfluteguild.org
SUMMARY:The Victorian Flute Ensemble - A Journey Into Space And Beyond
DESCRIPTION:
URL:https://www.victorianfluteguild.org/event/the-victorian-flute-ensemble-a-journey-into-space-and-beyond/
LOCATION:Library at the Dock Docklands Melbourne\, 107 Victorain Harbour Promenade\, Docklands\, Vic\, Australia
CATEGORIES:VFG Flute Ensembles
END:VEVENT
BEGIN:VEVENT
DTSTART;VALUE=DATE:20170528
DTEND;VALUE=DATE:20170529
DTSTAMP:20260424T053054
CREATED:20170220T050605Z
LAST-MODIFIED:20250419T085532Z
UID:662-1495929600-1496015999@www.victorianfluteguild.org
SUMMARY:VFG Ensemble Competition
DESCRIPTION:The Flute Ensemble Competition began in 1994 as part of the Melbourne Flute Festival.  Since then it has become a big annual event bringing in flute ensembles from schools\, communities\, and privately-run groups from all across Victoria.
URL:https://www.victorianfluteguild.org/event/vfg-ensemble-competition/
LOCATION:James Tatoulis Auditorium & Flockart Hall\, MLC\, 207 Barkers Road\, Kew\, Melbourne\, Victoria\, 3101\, Australia
CATEGORIES:VFG Flute Ensembles
ORGANIZER;CN="Carolyn Grace":MAILTO:cagrace@primus.com.au
END:VEVENT
BEGIN:VEVENT
DTSTART;VALUE=DATE:20160522
DTEND;VALUE=DATE:20160523
DTSTAMP:20260424T053054
CREATED:20151230T065703Z
LAST-MODIFIED:20250419T085735Z
UID:454-1463875200-1463961599@www.victorianfluteguild.org
SUMMARY:Ensemble Competition
DESCRIPTION:For details and registration forms\, please click on the images below:
URL:https://www.victorianfluteguild.org/event/ensemble-competition/
LOCATION:James Tatoulis Auditorium & Flockart Hall\, MLC\, 207 Barkers Road\, Kew\, Melbourne\, Victoria\, 3101\, Australia
CATEGORIES:VFG Flute Ensembles
ORGANIZER;CN="Carolyn Grace":MAILTO:cagrace@primus.com.au
END:VEVENT
END:VCALENDAR