BEGIN:VCALENDAR
VERSION:2.0
PRODID:-//The Victorian Flute Guild - ECPv6.15.20//NONSGML v1.0//EN
CALSCALE:GREGORIAN
METHOD:PUBLISH
X-WR-CALNAME:The Victorian Flute Guild
X-ORIGINAL-URL:https://www.victorianfluteguild.org
X-WR-CALDESC:Events for The Victorian Flute Guild
REFRESH-INTERVAL;VALUE=DURATION:PT1H
X-Robots-Tag:noindex
X-PUBLISHED-TTL:PT1H
BEGIN:VTIMEZONE
TZID:Australia/Melbourne
BEGIN:STANDARD
TZOFFSETFROM:+1100
TZOFFSETTO:+1000
TZNAME:AEST
DTSTART:20150404T160000
END:STANDARD
BEGIN:DAYLIGHT
TZOFFSETFROM:+1000
TZOFFSETTO:+1100
TZNAME:AEDT
DTSTART:20151003T160000
END:DAYLIGHT
BEGIN:STANDARD
TZOFFSETFROM:+1100
TZOFFSETTO:+1000
TZNAME:AEST
DTSTART:20160402T160000
END:STANDARD
BEGIN:DAYLIGHT
TZOFFSETFROM:+1000
TZOFFSETTO:+1100
TZNAME:AEDT
DTSTART:20161001T160000
END:DAYLIGHT
BEGIN:STANDARD
TZOFFSETFROM:+1100
TZOFFSETTO:+1000
TZNAME:AEST
DTSTART:20170401T160000
END:STANDARD
BEGIN:DAYLIGHT
TZOFFSETFROM:+1000
TZOFFSETTO:+1100
TZNAME:AEDT
DTSTART:20170930T160000
END:DAYLIGHT
END:VTIMEZONE
BEGIN:VEVENT
DTSTART;TZID=Australia/Melbourne:20161016T140000
DTEND;TZID=Australia/Melbourne:20161016T160000
DTSTAMP:20260424T053055
CREATED:20151230T071814Z
LAST-MODIFIED:20250419T085617Z
UID:464-1476626400-1476633600@www.victorianfluteguild.org
SUMMARY:AGM Presentation & Concert
DESCRIPTION:Featuring guest speaker Lisa-Maree Amos.
URL:https://www.victorianfluteguild.org/event/agm-presentation-concert/
CATEGORIES:AGM and Concert
END:VEVENT
END:VCALENDAR