BEGIN:VCALENDAR
VERSION:2.0
PRODID:-//The Victorian Flute Guild - ECPv6.15.20//NONSGML v1.0//EN
CALSCALE:GREGORIAN
METHOD:PUBLISH
X-WR-CALNAME:The Victorian Flute Guild
X-ORIGINAL-URL:https://www.victorianfluteguild.org
X-WR-CALDESC:Events for The Victorian Flute Guild
REFRESH-INTERVAL;VALUE=DURATION:PT1H
X-Robots-Tag:noindex
X-PUBLISHED-TTL:PT1H
BEGIN:VTIMEZONE
TZID:Australia/Melbourne
BEGIN:STANDARD
TZOFFSETFROM:+1100
TZOFFSETTO:+1000
TZNAME:AEST
DTSTART:20250405T160000
END:STANDARD
BEGIN:DAYLIGHT
TZOFFSETFROM:+1000
TZOFFSETTO:+1100
TZNAME:AEDT
DTSTART:20251004T160000
END:DAYLIGHT
BEGIN:STANDARD
TZOFFSETFROM:+1100
TZOFFSETTO:+1000
TZNAME:AEST
DTSTART:20260404T160000
END:STANDARD
BEGIN:DAYLIGHT
TZOFFSETFROM:+1000
TZOFFSETTO:+1100
TZNAME:AEDT
DTSTART:20261003T160000
END:DAYLIGHT
BEGIN:STANDARD
TZOFFSETFROM:+1100
TZOFFSETTO:+1000
TZNAME:AEST
DTSTART:20270403T160000
END:STANDARD
BEGIN:DAYLIGHT
TZOFFSETFROM:+1000
TZOFFSETTO:+1100
TZNAME:AEDT
DTSTART:20271002T160000
END:DAYLIGHT
END:VTIMEZONE
BEGIN:VEVENT
DTSTART;TZID=Australia/Melbourne:20260502T093000
DTEND;TZID=Australia/Melbourne:20260502T123000
DTSTAMP:20260423T215820
CREATED:20260302T094042Z
LAST-MODIFIED:20260302T094155Z
UID:2985-1777714200-1777725000@www.victorianfluteguild.org
SUMMARY:Flute Teacher Professional Development Day 2026
DESCRIPTION: Professional Development for Flute Teachers \nThe Victorian Flute Guild presents a dedicated flute teacher professional development morning designed to strengthen both core pedagogy and modern studio practice. \nThis dual-session event brings together deep work on tone production and practical tools for smarter teaching — equipping flute teachers with both strong foundations and future-ready strategies. \nSaturday 2 May 20269:30am – 12:30pmSt Peter’s Eastern Hill15 Gisborne Street\, East Melbourne \n\nAdvanced Tone Production: Unlocking the Power of Air\nJoanna Sullivan \nA central pillar of effective flute teacher professional development is understanding how air truly functions in tone production. \nExplore how air speed\, direction\, volume and preparation interact to support pitch\, dynamics and expressive control — all without tension. \nJoanna Sullivan brings more than 40 years of experience to flute pedagogy\, combining her Victorian College of the Arts training with a Master of Music from the University of Queensland. Her research into how the brain learns and the importance of healthy habits underpins her publications The Fab Flute Player and Teaching Beginner Flute. \nTeachers will gain: \n\nA neuroscience-informed framework for teaching beginners correctly from day one\nPractical strategies for building healthy\, automatic fundamentals\nClear diagnostic tools for identifying and solving tone problems in more advanced students\n\n\nAI for Flute Teachers: Practical Tools for Smarter Teaching\nPaula Rae \nModern flute teacher professional development must also address efficiency and engagement in today’s studio environment. \nThis practical session introduces accessible AI tools that can help teachers: \n\nSave time on lesson planning\nCreate engaging student activities\nStreamline studio administration\nMaintain artistry at the heart of their teaching\n\nPaula Rae is a Melbourne-based flautist and educator\, a founding member of Elision Ensemble and former Associate Principal Flute with Orchestra Victoria. As President of the Victorian Flute Guild\, she is passionate about equipping flute teachers with practical\, forward-thinking tools. \n\nDetails & Bookings\nVFG Members: $25Non-Members: $50 \nBookings via TryBooking:https://www.trybooking.com/events/landing/1548281?embed \nJoin us for a focused and inspiring morning of flute teacher professional development in Melbourne.
URL:https://www.victorianfluteguild.org/event/pd-day-2026/
LOCATION:St. Peter’s Eastern Hill\, 15 Gisborne St\, East Melbourne\, Victoria\, 3002
CATEGORIES:VFG Workshops
ATTACH;FMTTYPE=application/pdf:https://www.victorianfluteguild.org/wp-content/uploads/2026/03/PD-Day-flyer-2026-PDF.pdf
END:VEVENT
BEGIN:VEVENT
DTSTART;TZID=Australia/Melbourne:20260509T150000
DTEND;TZID=Australia/Melbourne:20260509T170000
DTSTAMP:20260423T215820
CREATED:20260116T042138Z
LAST-MODIFIED:20260116T042447Z
UID:2939-1778338800-1778346000@www.victorianfluteguild.org
SUMMARY:Leslie Barklamb Scholarship Showcase Concert 2026
DESCRIPTION:Celebrate the art of flute playing at the Leslie Barklamb Scholarship Showcase Concert 2026\, a special afternoon concert honouring the legacy of Leslie Barklamb and his enduring contribution to Australian flute performance and education. \nThis annual showcase features performances by the talented winners of all sections of the 2025 Leslie Barklamb Scholarship Competition\, highlighting the breadth\, depth and vitality of flute playing across our community. The program will also include a performance by the Victorian Flute Ensemble\, presenting music that celebrates the flute’s expressive range and collaborative spirit. \nA much-loved tradition\, the concert will conclude with a massed flutes performance\, inviting flautists in the audience to join in and make music together. Whether you are an experienced performer\, a student\, or simply enjoy playing for pleasure\, this shared musical moment is open to all — just bring your flute. \nJoin us for an afternoon of fine music\, community connection and celebration as we recognise emerging talent and continue the proud legacy of the Leslie Barklamb Scholarship. \nSaturday 9 May 20263:00 pmSaint Peter’s Anglican Church1038 Whitehorse Road\, Box Hill \nTickets:VFG Members / Concession – $20Non-members – $3015 and under – Free \nBookings via TryBooking.
URL:https://www.victorianfluteguild.org/event/barklamb-showcase-2026/
LOCATION:Saint Peter’s Anglican Church Box Hill\, 1038 Whitehorse Road\, Box Hill\, Victoria\, 3128
CATEGORIES:Leslie Barklamb
ATTACH;FMTTYPE=image/jpeg:https://www.victorianfluteguild.org/wp-content/uploads/2026/01/LBS-Concert-Poster-2026-jpeg.jpg
END:VEVENT
BEGIN:VEVENT
DTSTART;TZID=Australia/Melbourne:20260531T090000
DTEND;TZID=Australia/Melbourne:20260531T170000
DTSTAMP:20260423T215820
CREATED:20250601T232521Z
LAST-MODIFIED:20260422T114546Z
UID:2612-1780218000-1780246800@www.victorianfluteguild.org
SUMMARY:32nd Flute Ensemble Competition 2026
DESCRIPTION:The 2026 Flute Ensemble Competition invites flute ensembles of all ages and experience levels to take part in one of the Victorian Flute Guild’s longest-running and most popular annual events. \nEnsembles are welcomed across a wide range of categories\, including Primary\, 14 years and under\, 16 years and under\, 18 years and under\, Open Section and Novice Section\, with performance formats ranging from duets and mixed duets to small and large ensembles. This inclusive structure allows school groups\, community ensembles and private entrants to participate in a supportive and encouraging environment. \nPerformances are assessed by experienced adjudicators from the Melbourne flute community\, with each ensemble receiving constructive feedback to support musical development and ensemble skills. Since its beginnings in 1994 as part of the Melbourne Flute Festival\, the competition has grown into a significant fixture on the VFG calendar\, attracting ensembles from across Victoria. \nWhether you are performing\, supporting an ensemble\, or attending as an audience member\, the 2026 Flute Ensemble Competition is a celebration of collaborative music-making and the rich diversity of flute ensemble performance. \nDownload the entry form
URL:https://www.victorianfluteguild.org/event/2026-flute-ensemble-competition/
LOCATION:Camberwell Grammar School\, 55 Mont Albert Rd\, Canterbury\, Victoria\, 3126\, Australia
CATEGORIES:VFG Flute Ensembles
ATTACH;FMTTYPE=image/jpeg:https://www.victorianfluteguild.org/wp-content/uploads/2025/06/2026-Ensemble-Comp-poster-v2.jpg
ORGANIZER;CN="Carolyn Grace":MAILTO:cagrace@primus.com.au
END:VEVENT
BEGIN:VEVENT
DTSTART;TZID=Australia/Melbourne:20260830T090000
DTEND;TZID=Australia/Melbourne:20260830T140000
DTSTAMP:20260423T215820
CREATED:20260116T045752Z
LAST-MODIFIED:20260218T102845Z
UID:2948-1788080400-1788098400@www.victorianfluteguild.org
SUMMARY:53rd Annual Leslie Barklamb Scholarship - Preliminaries 2026
DESCRIPTION:The 2026 Leslie Barklamb Scholarship preliminaries invite young flautists to take part in one of Australia’s most respected and long-running flute competitions. Established to honour the legacy of Leslie Barklamb\, the Scholarship continues to foster excellence\, musicianship and artistic development in emerging performers. \nThe competition is open to flautists across multiple age groups\, with sections for 11 years and under\, 13 years and under\, 15 years and under\, 18 years and under\, VCE\, and the Leslie Barklamb Scholarship (25 years and under). Participants will be assessed by a panel of experienced adjudicators\, with each performer receiving valuable feedback to support their musical growth. \nWinners of the 11\, 13 and 15 years and under sections\, along with the VCE section\, as determined on the day\, will be invited to perform in the Leslie Barklamb Scholarship Finals Concert\, held the following week. The 18 years and under and 25 years and under sections progress through to that final concert\, where Scholarship recipients will be determined. \nWhether competing or attending as a supporter\, the 2026 Leslie Barklamb Scholarship preliminaries are a cornerstone of the Victorian flute calendar and a celebration of young talent and dedication to the flute. \nEntries open: Monday 1 June 2026Entries close: Friday 7 August 2026 \n[Download the entry form]
URL:https://www.victorianfluteguild.org/event/2026-barklamb-preliminaries/
LOCATION:Camberwell Grammar School\, 55 Mont Albert Rd\, Canterbury\, Victoria\, 3126\, Australia
CATEGORIES:Leslie Barklamb
ATTACH;FMTTYPE=image/jpeg:https://www.victorianfluteguild.org/wp-content/uploads/2026/01/Barklamb-2026-poster.jpg
END:VEVENT
BEGIN:VEVENT
DTSTART;TZID=Australia/Melbourne:20260904T190000
DTEND;TZID=Australia/Melbourne:20260904T210000
DTSTAMP:20260423T215820
CREATED:20260116T052849Z
LAST-MODIFIED:20260218T095911Z
UID:2956-1788548400-1788555600@www.victorianfluteguild.org
SUMMARY:53rd Annual Leslie Barklamb Scholarship - Finals Concert 2026
DESCRIPTION:The 2026 Leslie Barklamb Scholarship finals bring together outstanding young flautists for an evening concert celebrating excellence\, dedication and emerging artistry. This special event forms the culmination of the 53rd Annual Leslie Barklamb Scholarship Competition. \nThe concert features performances by invited finalists following the preliminary rounds\, including winners of the 11\, 13 and 15 years and under sections and the VCE section\, as well as finalists in the 18 years and under and 25 years and under (Scholarship) categories. During the concert\, the recipients of the senior awards will be determined. \nAudiences are invited to enjoy a program showcasing a wide range of repertoire and performance styles\, highlighting the musical development and individuality of each finalist. The 2026 Leslie Barklamb Scholarship finals are a highlight of the Victorian flute calendar and an opportunity to support young musicians at a pivotal moment in their musical journey. \nAudience tickets available at the door. \n[Download the entry form]
URL:https://www.victorianfluteguild.org/event/2026-barklamb-finals/
LOCATION:Armadale Baptist Church\, 88 Kooyong Road\, Armadale\, Victoria\, 3143\, Australia
CATEGORIES:Leslie Barklamb
ATTACH;FMTTYPE=image/jpeg:https://www.victorianfluteguild.org/wp-content/uploads/2026/01/Barklamb-2026-poster.jpg
END:VEVENT
BEGIN:VEVENT
DTSTART;TZID=Australia/Melbourne:20261018T140000
DTEND;TZID=Australia/Melbourne:20261018T153000
DTSTAMP:20260423T215820
CREATED:20260116T043740Z
LAST-MODIFIED:20260116T043901Z
UID:2943-1792332000-1792337400@www.victorianfluteguild.org
SUMMARY:2026 AGM and Concert
DESCRIPTION:Join us for the 2026 AGM and Concert\, an afternoon bringing together community\, music and shared participation within the Victorian Flute Guild. \nThe event will begin with a brief Annual General Meeting\, followed by a short concert showcasing the three Victorian Flute Guild ensembles: \n\n\nValda Fouvy Group (directed by Kaye Duffell) \n\n\nWest Wind Flutes (directed by Renée Petale) \n\n\nVictorian Flute Ensemble (directed by Carolyn Grace) \n\n\nThe concert highlights the breadth of flute playing within the Guild and celebrates collaboration across different playing levels and styles. \nThe afternoon will conclude with a massed flutes performance\, with all attendees warmly invited to bring their flutes and join in making music together. A relaxed afternoon tea will follow\, providing an opportunity to socialise and connect with fellow members of the Victorian flute community. \nAll Victorian Flute Guild members and members of the broader flute community are warmly invited to attend the 2026 AGM and Concert.
URL:https://www.victorianfluteguild.org/event/2026-agm-and-concert/
LOCATION:Stonnington Community Uniting Church\, 59 Burke Road\, East Malvern\, Victoria\, 3145
CATEGORIES:AGM and Concert
ATTACH;FMTTYPE=image/jpeg:https://www.victorianfluteguild.org/wp-content/uploads/2026/01/2026-AGM-poster-jpeg.jpg
END:VEVENT
END:VCALENDAR